BEGIN:VCALENDAR
VERSION:2.0
CALSCALE:GREGORIAN
PRODID:adamgibbons/ics
METHOD:PUBLISH
X-PUBLISHED-TTL:PT1H
BEGIN:VEVENT
UID:t3wnvmivuwl5o1j6nk75@d2s.us
SUMMARY:SuperVette Saturday 2026
DTSTAMP:20260421T141400Z
DTSTART:20260502T130000Z
DTEND:20260502T190000Z
DESCRIPTION:One of the SouthEast's biggest all-Corvette shows!  Public Welc
	ome!
URL:https://d2s.us/show/supervette-saturday-2026
GEO:34.0444302;-84.6976474
LOCATION:3693 Cobb Parkway Northwest Acworth Georgia 30101
STATUS:CONFIRMED
CATEGORIES:vehicle show,car show,car meet
ORGANIZER;CN=Classic Glass Corvette Club of Marietta GA:mailto:svs@chazcone
	.com
X-MICROSOFT-CDO-BUSYSTATUS:BUSY
CLASS:PUBLIC
BEGIN:VALARM
ACTION:DISPLAY
DESCRIPTION:Reminder
TRIGGER:-P5DT
END:VALARM
BEGIN:VALARM
ACTION:DISPLAY
DESCRIPTION:Reminder
TRIGGER:-P2DT
END:VALARM
BEGIN:VALARM
ACTION:DISPLAY
DESCRIPTION:Reminder
TRIGGER:-P1DT
END:VALARM
BEGIN:VALARM
ACTION:DISPLAY
DESCRIPTION:Reminder
TRIGGER:-PT1H
END:VALARM
END:VEVENT
END:VCALENDAR
