BEGIN:VCALENDAR
VERSION:2.0
CALSCALE:GREGORIAN
PRODID:adamgibbons/ics
METHOD:PUBLISH
X-PUBLISHED-TTL:PT1H
BEGIN:VEVENT
UID:cp6lwqlomnaly0r7yx5b@d2s.us
SUMMARY:May 9 is about to be NEXT LEVEL at Supercar Saturdays Florida.
DTSTAMP:20260420T214900Z
DTSTART:20260509T130000Z
DTEND:20260509T160000Z
DESCRIPTION:May 9 is about to be NEXT LEVEL at Supercar Saturdays Florida.\
	n\nGumball 3000 is taking over SSF — with owner Maximillion Cooper in the 
	building.\nThe world’s most famous supercar rally bringing cars\, lifestyl
	e\, and global energy.\n\nSpecial guest Daily Driven Exotics (DDE) joining
	 us again.\n\nThis will all be coordinated alongside the team from the ico
	nic Seminole Hard Rock Hotel & Casino — a full SSF takeover for this one.\
	n\nThis is not a regular show.\nFull Gumball energy — activations\, giveaw
	ays\, and surprises.\nHard Rock bringing their own activations and giveawa
	ys.\n\nSupercars. Hypercars. Exotics. Customs. Classics. JDM.\nFull takeov
	er.\n\nAll vehicles MUST be registered and you must show your registration
	 at the entrance for access — no registration\, no entry.\nRegister here: 
	https://www.supercarssaturdaysfl.com\n\nSaturday\, May 9 | 9AM – 12PM\nSem
	inole Hard Rock Hotel & Casino | 1 Seminole Way\n\nFinal show before our s
	ummer break.\nThis is a can’t miss.\n\nArrive early for smooth entry and p
	lacement.\n\nVendors & Sponsors — limited availability due to the Gumball 
	and Hard Rock takeover.\nFor information contact Jon at 305-978-9433 or em
	ail ssfmarketinginfo@gmail.com\n\nSummer Series (June–September):\nhttps:/
	/supercarssaturdayflorida.com\n\nThank you for a great season — see you wh
	en we’re back September 12th.
URL:https://d2s.us/show/may-9-is-about-to-be-next-level-at-supercar-saturda
	ys-florida
GEO:26.0509943;-80.2135119
LOCATION:One Seminole Way Davie Florida 33314
STATUS:CONFIRMED
CATEGORIES:vehicle show,car show,car meet
ORGANIZER;CN=Supercar Saturdays Florida:mailto:supercarsaturdaysflorida@gma
	il.com
X-MICROSOFT-CDO-BUSYSTATUS:BUSY
CLASS:PUBLIC
BEGIN:VALARM
ACTION:DISPLAY
DESCRIPTION:Reminder
TRIGGER:-P5DT
END:VALARM
BEGIN:VALARM
ACTION:DISPLAY
DESCRIPTION:Reminder
TRIGGER:-P2DT
END:VALARM
BEGIN:VALARM
ACTION:DISPLAY
DESCRIPTION:Reminder
TRIGGER:-P1DT
END:VALARM
BEGIN:VALARM
ACTION:DISPLAY
DESCRIPTION:Reminder
TRIGGER:-PT1H
END:VALARM
END:VEVENT
END:VCALENDAR
