BEGIN:VCALENDAR
VERSION:2.0
CALSCALE:GREGORIAN
PRODID:adamgibbons/ics
METHOD:PUBLISH
X-PUBLISHED-TTL:PT1H
BEGIN:VEVENT
UID:b7otlirkya57x8h1htfj@d2s.us
SUMMARY:All American Car Show
DTSTAMP:20260419T140900Z
DTSTART:20260711T140000Z
DTEND:20260711T190000Z
DESCRIPTION:19th Annual All American Car Show! 
URL:https://d2s.us/show/all-american-car-show
GEO:40.4012195;-105.0160242
LOCATION:950 North Boyd Lake Avenue Loveland Colorado 80537
STATUS:CONFIRMED
CATEGORIES:vehicle show,car show,car meet
ORGANIZER;CN=Northern Colorado Mustang Car Club (NCMCC):mailto:webmaster@nc
	mcc.org
X-MICROSOFT-CDO-BUSYSTATUS:BUSY
CLASS:PUBLIC
BEGIN:VALARM
ACTION:DISPLAY
DESCRIPTION:Reminder
TRIGGER:-P5DT
END:VALARM
BEGIN:VALARM
ACTION:DISPLAY
DESCRIPTION:Reminder
TRIGGER:-P2DT
END:VALARM
BEGIN:VALARM
ACTION:DISPLAY
DESCRIPTION:Reminder
TRIGGER:-P1DT
END:VALARM
BEGIN:VALARM
ACTION:DISPLAY
DESCRIPTION:Reminder
TRIGGER:-PT1H
END:VALARM
END:VEVENT
END:VCALENDAR
